{"text_format":"1","workbook":"xlsx","n_sheets":6,"sheets":["相関表","Sheet1","Sheet2","Sheet 3","Sheet 4","Sheet5"],"not_rendered":{"charts":0,"images":0,"macros":0,"external_links":0,"defined_names":0,"comments":0,"pivot_tables":0},"unopened":[],"bounds":{"document_bytes":16777216,"sheet_cells":100000,"rows_first":2000,"rows_last":500,"rows_between":2000,"halvings":0,"cell_chars":16384,"cell_head_chars":4096},"cells_cut":0,"cells_raw":0,"read":"whole","date_system":"1900"}

{"sheet":"相関表","index":0,"n_rows":7,"n_cols":7,"rows_kept":7,"cut":false,"hidden":false,"merged":[]}
[]
[null,null,"Sheet1","Sheet2","Sheet 3","Sheet 4","Sheet5"]
[null,"Sheet1"]
[null,"Sheet2"]
[null,"Sheet 3"]
[null,"Sheet 4"]
[null,"Sheet5"]

{"sheet":"Sheet1","index":1,"n_rows":2,"n_cols":4,"rows_kept":2,"cut":false,"hidden":false,"merged":[]}
[null,"Sheet2","Shee 3","Sheet 4"]
[{"$f":"Sheet5!A2","v":"合計"},{"$f":"SUM(Sheet2!D:D)","v":3490798},{"$f":"SUM('Sheet 3'!F:F)","v":3490798},{"$f":"INDEX('Sheet 4'!A1:L7,MATCH(\"合計\",'Sheet 4'!A:A,0),MATCH(\"合計\",'Sheet 4'!1:1,0))","v":3490798}]

{"sheet":"Sheet2","index":2,"n_rows":11,"n_cols":4,"rows_kept":11,"cut":false,"hidden":false,"merged":[]}
["id",{"$f":"Sheet5!B1","v":"名称"},{"$f":"Sheet5!C1","v":"単価"},{"$f":"Sheet5!D1","v":"金額"}]
["id01","名前01",1981,{"$f":"SUMIFS('Sheet 3'!F:F,'Sheet 3'!B:B,Sheet2!A2)","v":219891}]
["id02","名前02",315,{"$f":"SUMIFS('Sheet 3'!F:F,'Sheet 3'!B:B,Sheet2!A3)","v":63315}]
["id03","名前03",1780,{"$f":"SUMIFS('Sheet 3'!F:F,'Sheet 3'!B:B,Sheet2!A4)","v":539340}]
["id04","名前04",1937,{"$f":"SUMIFS('Sheet 3'!F:F,'Sheet 3'!B:B,Sheet2!A5)","v":524927}]
["id05","名前05",1436,{"$f":"SUMIFS('Sheet 3'!F:F,'Sheet 3'!B:B,Sheet2!A6)","v":410696}]
["id06","名前06",1884,{"$f":"SUMIFS('Sheet 3'!F:F,'Sheet 3'!B:B,Sheet2!A7)","v":467232}]
["id07","名前07",505,{"$f":"SUMIFS('Sheet 3'!F:F,'Sheet 3'!B:B,Sheet2!A8)","v":142410}]
["id08","名前08",437,{"$f":"SUMIFS('Sheet 3'!F:F,'Sheet 3'!B:B,Sheet2!A9)","v":149891}]
["id09","名前09",1921,{"$f":"SUMIFS('Sheet 3'!F:F,'Sheet 3'!B:B,Sheet2!A10)","v":722296}]
["id10","名前10",1200,{"$f":"SUMIFS('Sheet 3'!F:F,'Sheet 3'!B:B,Sheet2!A11)","v":250800}]

{"sheet":"Sheet 3","index":3,"n_rows":51,"n_cols":6,"rows_kept":51,"cut":false,"hidden":false,"merged":[]}
["日付","id","名称","単価","数量","金額"]
["2021-02-01","id01",{"$f":"VLOOKUP($B2,Sheet2!$A:$C,2,0)","v":"名前01"},{"$f":"VLOOKUP($B2,Sheet2!$A:$C,3,0)","v":1981},41,{"$f":"D2*E2","v":81221}]
["2021-02-01","id02",{"$f":"VLOOKUP($B3,Sheet2!$A:$C,2,0)","v":"名前02"},{"$f":"VLOOKUP($B3,Sheet2!$A:$C,3,0)","v":315},49,{"$f":"D3*E3","v":15435}]
["2021-02-01","id03",{"$f":"VLOOKUP($B4,Sheet2!$A:$C,2,0)","v":"名前03"},{"$f":"VLOOKUP($B4,Sheet2!$A:$C,3,0)","v":1780},11,19580]
["2021-02-01","id04",{"$f":"VLOOKUP($B5,Sheet2!$A:$C,2,0)","v":"名前04"},{"$f":"VLOOKUP($B5,Sheet2!$A:$C,3,0)","v":1937},15,29055]
["2021-02-01","id05",{"$f":"VLOOKUP($B6,Sheet2!$A:$C,2,0)","v":"名前05"},{"$f":"VLOOKUP($B6,Sheet2!$A:$C,3,0)","v":1436},58,83288]
["2021-02-01","id06",{"$f":"VLOOKUP($B7,Sheet2!$A:$C,2,0)","v":"名前06"},{"$f":"VLOOKUP($B7,Sheet2!$A:$C,3,0)","v":1884},60,113040]
["2021-02-01","id07",{"$f":"VLOOKUP($B8,Sheet2!$A:$C,2,0)","v":"名前07"},{"$f":"VLOOKUP($B8,Sheet2!$A:$C,3,0)","v":505},63,31815]
["2021-02-01","id08",{"$f":"VLOOKUP($B9,Sheet2!$A:$C,2,0)","v":"名前08"},{"$f":"VLOOKUP($B9,Sheet2!$A:$C,3,0)","v":437},95,41515]
["2021-02-01","id09",{"$f":"VLOOKUP($B10,Sheet2!$A:$C,2,0)","v":"名前09"},{"$f":"VLOOKUP($B10,Sheet2!$A:$C,3,0)","v":1921},84,161364]
["2021-02-01","id10",{"$f":"VLOOKUP($B11,Sheet2!$A:$C,2,0)","v":"名前10"},{"$f":"VLOOKUP($B11,Sheet2!$A:$C,3,0)","v":1200},76,91200]
["2021-02-02","id01",{"$f":"VLOOKUP($B12,Sheet2!$A:$C,2,0)","v":"名前01"},{"$f":"VLOOKUP($B12,Sheet2!$A:$C,3,0)","v":1981},14,{"$f":"D12*E12","v":27734}]
["2021-02-02","id02",{"$f":"VLOOKUP($B13,Sheet2!$A:$C,2,0)","v":"名前02"},{"$f":"VLOOKUP($B13,Sheet2!$A:$C,3,0)","v":315},19,{"$f":"D13*E13","v":5985}]
["2021-02-02","id03",{"$f":"VLOOKUP($B14,Sheet2!$A:$C,2,0)","v":"名前03"},{"$f":"VLOOKUP($B14,Sheet2!$A:$C,3,0)","v":1780},39,69420]
["2021-02-02","id04",{"$f":"VLOOKUP($B15,Sheet2!$A:$C,2,0)","v":"名前04"},{"$f":"VLOOKUP($B15,Sheet2!$A:$C,3,0)","v":1937},85,164645]
["2021-02-02","id05",{"$f":"VLOOKUP($B16,Sheet2!$A:$C,2,0)","v":"名前05"},{"$f":"VLOOKUP($B16,Sheet2!$A:$C,3,0)","v":1436},83,119188]
["2021-02-02","id06",{"$f":"VLOOKUP($B17,Sheet2!$A:$C,2,0)","v":"名前06"},{"$f":"VLOOKUP($B17,Sheet2!$A:$C,3,0)","v":1884},70,131880]
["2021-02-02","id07",{"$f":"VLOOKUP($B18,Sheet2!$A:$C,2,0)","v":"名前07"},{"$f":"VLOOKUP($B18,Sheet2!$A:$C,3,0)","v":505},53,26765]
["2021-02-02","id08",{"$f":"VLOOKUP($B19,Sheet2!$A:$C,2,0)","v":"名前08"},{"$f":"VLOOKUP($B19,Sheet2!$A:$C,3,0)","v":437},47,20539]
["2021-02-02","id09",{"$f":"VLOOKUP($B20,Sheet2!$A:$C,2,0)","v":"名前09"},{"$f":"VLOOKUP($B20,Sheet2!$A:$C,3,0)","v":1921},95,182495]
["2021-02-02","id10",{"$f":"VLOOKUP($B21,Sheet2!$A:$C,2,0)","v":"名前10"},{"$f":"VLOOKUP($B21,Sheet2!$A:$C,3,0)","v":1200},80,96000]
["2021-02-03","id01",{"$f":"VLOOKUP($B22,Sheet2!$A:$C,2,0)","v":"名前01"},{"$f":"VLOOKUP($B22,Sheet2!$A:$C,3,0)","v":1981},5,{"$f":"D22*E22","v":9905}]
["2021-02-03","id02",{"$f":"VLOOKUP($B23,Sheet2!$A:$C,2,0)","v":"名前02"},{"$f":"VLOOKUP($B23,Sheet2!$A:$C,3,0)","v":315},12,{"$f":"D23*E23","v":3780}]
["2021-02-03","id03",{"$f":"VLOOKUP($B24,Sheet2!$A:$C,2,0)","v":"名前03"},{"$f":"VLOOKUP($B24,Sheet2!$A:$C,3,0)","v":1780},90,160200]
["2021-02-03","id04",{"$f":"VLOOKUP($B25,Sheet2!$A:$C,2,0)","v":"名前04"},{"$f":"VLOOKUP($B25,Sheet2!$A:$C,3,0)","v":1937},47,91039]
["2021-02-03","id05",{"$f":"VLOOKUP($B26,Sheet2!$A:$C,2,0)","v":"名前05"},{"$f":"VLOOKUP($B26,Sheet2!$A:$C,3,0)","v":1436},28,40208]
["2021-02-03","id06",{"$f":"VLOOKUP($B27,Sheet2!$A:$C,2,0)","v":"名前06"},{"$f":"VLOOKUP($B27,Sheet2!$A:$C,3,0)","v":1884},21,39564]
["2021-02-03","id07",{"$f":"VLOOKUP($B28,Sheet2!$A:$C,2,0)","v":"名前07"},{"$f":"VLOOKUP($B28,Sheet2!$A:$C,3,0)","v":505},95,47975]
["2021-02-03","id08",{"$f":"VLOOKUP($B29,Sheet2!$A:$C,2,0)","v":"名前08"},{"$f":"VLOOKUP($B29,Sheet2!$A:$C,3,0)","v":437},37,16169]
["2021-02-03","id09",{"$f":"VLOOKUP($B30,Sheet2!$A:$C,2,0)","v":"名前09"},{"$f":"VLOOKUP($B30,Sheet2!$A:$C,3,0)","v":1921},35,67235]
["2021-02-03","id10",{"$f":"VLOOKUP($B31,Sheet2!$A:$C,2,0)","v":"名前10"},{"$f":"VLOOKUP($B31,Sheet2!$A:$C,3,0)","v":1200},21,25200]
["2021-02-04","id01",{"$f":"VLOOKUP($B32,Sheet2!$A:$C,2,0)","v":"名前01"},{"$f":"VLOOKUP($B32,Sheet2!$A:$C,3,0)","v":1981},21,{"$f":"D32*E32","v":41601}]
["2021-02-04","id02",{"$f":"VLOOKUP($B33,Sheet2!$A:$C,2,0)","v":"名前02"},{"$f":"VLOOKUP($B33,Sheet2!$A:$C,3,0)","v":315},28,{"$f":"D33*E33","v":8820}]
["2021-02-04","id03",{"$f":"VLOOKUP($B34,Sheet2!$A:$C,2,0)","v":"名前03"},{"$f":"VLOOKUP($B34,Sheet2!$A:$C,3,0)","v":1780},73,129940]
["2021-02-04","id04",{"$f":"VLOOKUP($B35,Sheet2!$A:$C,2,0)","v":"名前04"},{"$f":"VLOOKUP($B35,Sheet2!$A:$C,3,0)","v":1937},34,65858]
["2021-02-04","id05",{"$f":"VLOOKUP($B36,Sheet2!$A:$C,2,0)","v":"名前05"},{"$f":"VLOOKUP($B36,Sheet2!$A:$C,3,0)","v":1436},30,43080]
["2021-02-04","id06",{"$f":"VLOOKUP($B37,Sheet2!$A:$C,2,0)","v":"名前06"},{"$f":"VLOOKUP($B37,Sheet2!$A:$C,3,0)","v":1884},82,154488]
["2021-02-04","id07",{"$f":"VLOOKUP($B38,Sheet2!$A:$C,2,0)","v":"名前07"},{"$f":"VLOOKUP($B38,Sheet2!$A:$C,3,0)","v":505},58,29290]
["2021-02-04","id08",{"$f":"VLOOKUP($B39,Sheet2!$A:$C,2,0)","v":"名前08"},{"$f":"VLOOKUP($B39,Sheet2!$A:$C,3,0)","v":437},86,37582]
["2021-02-04","id09",{"$f":"VLOOKUP($B40,Sheet2!$A:$C,2,0)","v":"名前09"},{"$f":"VLOOKUP($B40,Sheet2!$A:$C,3,0)","v":1921},64,122944]
["2021-02-04","id10",{"$f":"VLOOKUP($B41,Sheet2!$A:$C,2,0)","v":"名前10"},{"$f":"VLOOKUP($B41,Sheet2!$A:$C,3,0)","v":1200},25,30000]
["2021-02-05","id01",{"$f":"VLOOKUP($B42,Sheet2!$A:$C,2,0)","v":"名前01"},{"$f":"VLOOKUP($B42,Sheet2!$A:$C,3,0)","v":1981},30,{"$f":"D42*E42","v":59430}]
["2021-02-05","id02",{"$f":"VLOOKUP($B43,Sheet2!$A:$C,2,0)","v":"名前02"},{"$f":"VLOOKUP($B43,Sheet2!$A:$C,3,0)","v":315},93,{"$f":"D43*E43","v":29295}]
["2021-02-05","id03",{"$f":"VLOOKUP($B44,Sheet2!$A:$C,2,0)","v":"名前03"},{"$f":"VLOOKUP($B44,Sheet2!$A:$C,3,0)","v":1780},90,160200]
["2021-02-05","id04",{"$f":"VLOOKUP($B45,Sheet2!$A:$C,2,0)","v":"名前04"},{"$f":"VLOOKUP($B45,Sheet2!$A:$C,3,0)","v":1937},90,174330]
["2021-02-05","id05",{"$f":"VLOOKUP($B46,Sheet2!$A:$C,2,0)","v":"名前05"},{"$f":"VLOOKUP($B46,Sheet2!$A:$C,3,0)","v":1436},87,124932]
["2021-02-05","id06",{"$f":"VLOOKUP($B47,Sheet2!$A:$C,2,0)","v":"名前06"},{"$f":"VLOOKUP($B47,Sheet2!$A:$C,3,0)","v":1884},15,28260]
["2021-02-05","id07",{"$f":"VLOOKUP($B48,Sheet2!$A:$C,2,0)","v":"名前07"},{"$f":"VLOOKUP($B48,Sheet2!$A:$C,3,0)","v":505},13,6565]
["2021-02-05","id08",{"$f":"VLOOKUP($B49,Sheet2!$A:$C,2,0)","v":"名前08"},{"$f":"VLOOKUP($B49,Sheet2!$A:$C,3,0)","v":437},78,34086]
["2021-02-05","id09",{"$f":"VLOOKUP($B50,Sheet2!$A:$C,2,0)","v":"名前09"},{"$f":"VLOOKUP($B50,Sheet2!$A:$C,3,0)","v":1921},98,188258]
["2021-02-05","id10",{"$f":"VLOOKUP($B51,Sheet2!$A:$C,2,0)","v":"名前10"},{"$f":"VLOOKUP($B51,Sheet2!$A:$C,3,0)","v":1200},7,8400]

{"sheet":"Sheet 4","index":4,"n_rows":9,"n_cols":12,"rows_kept":9,"cut":false,"hidden":false,"merged":[]}
[null,"id01","id02","id03","id04","id05","id06","id07","id08","id09","id10","合計"]
["2021-02-01",{"$f":"SUMIFS('Sheet 3'!$F:$F,'Sheet 3'!$B:$B,B$1,'Sheet 3'!$A:$A,$A2)","v":81221},{"$f":"SUMIFS('Sheet 3'!$F:$F,'Sheet 3'!$B:$B,C$1,'Sheet 3'!$A:$A,$A2)","v":15435},{"$f":"SUMIFS('Sheet 3'!$F:$F,'Sheet 3'!$B:$B,D$1,'Sheet 3'!$A:$A,$A2)","v":19580},{"$f":"SUMIFS('Sheet 3'!$F:$F,'Sheet 3'!$B:$B,E$1,'Sheet 3'!$A:$A,$A2)","v":29055},{"$f":"SUMIFS('Sheet 3'!$F:$F,'Sheet 3'!$B:$B,F$1,'Sheet 3'!$A:$A,$A2)","v":83288},{"$f":"SUMIFS('Sheet 3'!$F:$F,'Sheet 3'!$B:$B,G$1,'Sheet 3'!$A:$A,$A2)","v":113040},{"$f":"SUMIFS('Sheet 3'!$F:$F,'Sheet 3'!$B:$B,H$1,'Sheet 3'!$A:$A,$A2)","v":31815},{"$f":"SUMIFS('Sheet 3'!$F:$F,'Sheet 3'!$B:$B,I$1,'Sheet 3'!$A:$A,$A2)","v":41515},{"$f":"SUMIFS('Sheet 3'!$F:$F,'Sheet 3'!$B:$B,J$1,'Sheet 3'!$A:$A,$A2)","v":161364},{"$f":"SUMIFS('Sheet 3'!$F:$F,'Sheet 3'!$B:$B,K$1,'Sheet 3'!$A:$A,$A2)","v":91200},{"$f":"SUM(B2:K2)","v":667513}]
["2021-02-02",{"$f":"SUMIFS('Sheet 3'!$F:$F,'Sheet 3'!$B:$B,B$1,'Sheet 3'!$A:$A,$A3)","v":27734},{"$f":"SUMIFS('Sheet 3'!$F:$F,'Sheet 3'!$B:$B,C$1,'Sheet 3'!$A:$A,$A3)","v":5985},{"$f":"SUMIFS('Sheet 3'!$F:$F,'Sheet 3'!$B:$B,D$1,'Sheet 3'!$A:$A,$A3)","v":69420},{"$f":"SUMIFS('Sheet 3'!$F:$F,'Sheet 3'!$B:$B,E$1,'Sheet 3'!$A:$A,$A3)","v":164645},{"$f":"SUMIFS('Sheet 3'!$F:$F,'Sheet 3'!$B:$B,F$1,'Sheet 3'!$A:$A,$A3)","v":119188},{"$f":"SUMIFS('Sheet 3'!$F:$F,'Sheet 3'!$B:$B,G$1,'Sheet 3'!$A:$A,$A3)","v":131880},{"$f":"SUMIFS('Sheet 3'!$F:$F,'Sheet 3'!$B:$B,H$1,'Sheet 3'!$A:$A,$A3)","v":26765},{"$f":"SUMIFS('Sheet 3'!$F:$F,'Sheet 3'!$B:$B,I$1,'Sheet 3'!$A:$A,$A3)","v":20539},{"$f":"SUMIFS('Sheet 3'!$F:$F,'Sheet 3'!$B:$B,J$1,'Sheet 3'!$A:$A,$A3)","v":182495},{"$f":"SUMIFS('Sheet 3'!$F:$F,'Sheet 3'!$B:$B,K$1,'Sheet 3'!$A:$A,$A3)","v":96000},844651]
["2021-02-03",{"$f":"SUMIFS('Sheet 3'!$F:$F,'Sheet 3'!$B:$B,B$1,'Sheet 3'!$A:$A,$A4)","v":9905},{"$f":"SUMIFS('Sheet 3'!$F:$F,'Sheet 3'!$B:$B,C$1,'Sheet 3'!$A:$A,$A4)","v":3780},{"$f":"SUMIFS('Sheet 3'!$F:$F,'Sheet 3'!$B:$B,D$1,'Sheet 3'!$A:$A,$A4)","v":160200},{"$f":"SUMIFS('Sheet 3'!$F:$F,'Sheet 3'!$B:$B,E$1,'Sheet 3'!$A:$A,$A4)","v":91039},{"$f":"SUMIFS('Sheet 3'!$F:$F,'Sheet 3'!$B:$B,F$1,'Sheet 3'!$A:$A,$A4)","v":40208},{"$f":"SUMIFS('Sheet 3'!$F:$F,'Sheet 3'!$B:$B,G$1,'Sheet 3'!$A:$A,$A4)","v":39564},{"$f":"SUMIFS('Sheet 3'!$F:$F,'Sheet 3'!$B:$B,H$1,'Sheet 3'!$A:$A,$A4)","v":47975},{"$f":"SUMIFS('Sheet 3'!$F:$F,'Sheet 3'!$B:$B,I$1,'Sheet 3'!$A:$A,$A4)","v":16169},{"$f":"SUMIFS('Sheet 3'!$F:$F,'Sheet 3'!$B:$B,J$1,'Sheet 3'!$A:$A,$A4)","v":67235},{"$f":"SUMIFS('Sheet 3'!$F:$F,'Sheet 3'!$B:$B,K$1,'Sheet 3'!$A:$A,$A4)","v":25200},501275]
["2021-02-04",{"$f":"SUMIFS('Sheet 3'!$F:$F,'Sheet 3'!$B:$B,B$1,'Sheet 3'!$A:$A,$A5)","v":41601},{"$f":"SUMIFS('Sheet 3'!$F:$F,'Sheet 3'!$B:$B,C$1,'Sheet 3'!$A:$A,$A5)","v":8820},{"$f":"SUMIFS('Sheet 3'!$F:$F,'Sheet 3'!$B:$B,D$1,'Sheet 3'!$A:$A,$A5)","v":129940},{"$f":"SUMIFS('Sheet 3'!$F:$F,'Sheet 3'!$B:$B,E$1,'Sheet 3'!$A:$A,$A5)","v":65858},{"$f":"SUMIFS('Sheet 3'!$F:$F,'Sheet 3'!$B:$B,F$1,'Sheet 3'!$A:$A,$A5)","v":43080},{"$f":"SUMIFS('Sheet 3'!$F:$F,'Sheet 3'!$B:$B,G$1,'Sheet 3'!$A:$A,$A5)","v":154488},{"$f":"SUMIFS('Sheet 3'!$F:$F,'Sheet 3'!$B:$B,H$1,'Sheet 3'!$A:$A,$A5)","v":29290},{"$f":"SUMIFS('Sheet 3'!$F:$F,'Sheet 3'!$B:$B,I$1,'Sheet 3'!$A:$A,$A5)","v":37582},{"$f":"SUMIFS('Sheet 3'!$F:$F,'Sheet 3'!$B:$B,J$1,'Sheet 3'!$A:$A,$A5)","v":122944},{"$f":"SUMIFS('Sheet 3'!$F:$F,'Sheet 3'!$B:$B,K$1,'Sheet 3'!$A:$A,$A5)","v":30000},663603]
["2021-02-05",{"$f":"SUMIFS('Sheet 3'!$F:$F,'Sheet 3'!$B:$B,B$1,'Sheet 3'!$A:$A,$A6)","v":59430},{"$f":"SUMIFS('Sheet 3'!$F:$F,'Sheet 3'!$B:$B,C$1,'Sheet 3'!$A:$A,$A6)","v":29295},{"$f":"SUMIFS('Sheet 3'!$F:$F,'Sheet 3'!$B:$B,D$1,'Sheet 3'!$A:$A,$A6)","v":160200},{"$f":"SUMIFS('Sheet 3'!$F:$F,'Sheet 3'!$B:$B,E$1,'Sheet 3'!$A:$A,$A6)","v":174330},{"$f":"SUMIFS('Sheet 3'!$F:$F,'Sheet 3'!$B:$B,F$1,'Sheet 3'!$A:$A,$A6)","v":124932},{"$f":"SUMIFS('Sheet 3'!$F:$F,'Sheet 3'!$B:$B,G$1,'Sheet 3'!$A:$A,$A6)","v":28260},{"$f":"SUMIFS('Sheet 3'!$F:$F,'Sheet 3'!$B:$B,H$1,'Sheet 3'!$A:$A,$A6)","v":6565},{"$f":"SUMIFS('Sheet 3'!$F:$F,'Sheet 3'!$B:$B,I$1,'Sheet 3'!$A:$A,$A6)","v":34086},{"$f":"SUMIFS('Sheet 3'!$F:$F,'Sheet 3'!$B:$B,J$1,'Sheet 3'!$A:$A,$A6)","v":188258},{"$f":"SUMIFS('Sheet 3'!$F:$F,'Sheet 3'!$B:$B,K$1,'Sheet 3'!$A:$A,$A6)","v":8400},813756]
["合計",{"$f":"SUM(B2:B6)","v":219891},63315,539340,524927,410696,467232,142410,149891,722296,250800,3490798]
[]
["id集計より",{"$f":"SUMIF(Sheet2!$A:$A,'Sheet 4'!B$1,Sheet2!$D:$D)","v":219891},{"$f":"SUMIF(Sheet2!$A:$A,'Sheet 4'!C$1,Sheet2!$D:$D)","v":63315},{"$f":"SUMIF(Sheet2!$A:$A,'Sheet 4'!D$1,Sheet2!$D:$D)","v":539340},{"$f":"SUMIF(Sheet2!$A:$A,'Sheet 4'!E$1,Sheet2!$D:$D)","v":524927},{"$f":"SUMIF(Sheet2!$A:$A,'Sheet 4'!F$1,Sheet2!$D:$D)","v":410696},{"$f":"SUMIF(Sheet2!$A:$A,'Sheet 4'!G$1,Sheet2!$D:$D)","v":467232},{"$f":"SUMIF(Sheet2!$A:$A,'Sheet 4'!H$1,Sheet2!$D:$D)","v":142410},{"$f":"SUMIF(Sheet2!$A:$A,'Sheet 4'!I$1,Sheet2!$D:$D)","v":149891},{"$f":"SUMIF(Sheet2!$A:$A,'Sheet 4'!J$1,Sheet2!$D:$D)","v":722296},{"$f":"SUMIF(Sheet2!$A:$A,'Sheet 4'!K$1,Sheet2!$D:$D)","v":250800},3490798]

{"sheet":"Sheet5","index":5,"n_rows":2,"n_cols":4,"rows_kept":2,"cut":false,"hidden":false,"merged":[]}
[null,"名称","単価","金額"]
["合計"]